BEGIN:VCALENDAR
VERSION:2.0
PRODID:-//Answer2Cancer - ECPv5.2.0//NONSGML v1.0//EN
CALSCALE:GREGORIAN
METHOD:PUBLISH
X-WR-CALNAME:Answer2Cancer
X-ORIGINAL-URL:https://answer2cancer.com
X-WR-CALDESC:Events for Answer2Cancer
BEGIN:VTIMEZONE
TZID:America/Los_Angeles
BEGIN:DAYLIGHT
TZOFFSETFROM:-0800
TZOFFSETTO:-0700
TZNAME:PDT
DTSTART:20200308T100000
END:DAYLIGHT
BEGIN:STANDARD
TZOFFSETFROM:-0700
TZOFFSETTO:-0800
TZNAME:PST
DTSTART:20201101T090000
END:STANDARD
END:VTIMEZONE
BEGIN:VEVENT
DTSTART;TZID=America/Los_Angeles:20201002T160000
DTEND;TZID=America/Los_Angeles:20201002T180000
DTSTAMP:20260424T093727
CREATED:20200911T060825Z
LAST-MODIFIED:20201002T201308Z
UID:56-1601654400-1601661600@answer2cancer.com
SUMMARY:LIVE: Share Teams ~ Meet Mentors/Peers with Your Type of Cancer
DESCRIPTION:
URL:https://answer2cancer.com/event/live-share-teams-meet-mentors-peers-with-your-type-of-cancer/
CATEGORIES:Live
END:VEVENT
END:VCALENDAR